BEGIN:VCALENDAR
VERSION:2.0
PRODID:-//ChamberMaster//Event Calendar 2.0//EN
METHOD:PUBLISH
X-PUBLISHED-TTL:P3D
REFRESH-INTERVAL:P3D
CALSCALE:GREGORIAN
BEGIN:VEVENT
DTSTART:20190425T200000Z
DTEND:20190425T220000Z
X-MICROSOFT-CDO-ALLDAYEVENT:FALSE
SUMMARY:Chamber 101 - 04/25/2019
DESCRIPTION:All Chamber members are cordially invited to join us for:\n\n\n\nChamber 101\n\n Thursday\, April 25th\n\n4:00 PM to 6:00 PM\n\n(In the Commerce Pointe Atrium)\n\n\n\nHealthcare Benefit Program 4:15\n\nSmall Business Networking 5:00\n\n\n\nThis event is FREE for all CHAMBER MEMBERS and their staffs\, but registration is required. \n\n\n\n \n\nThis informal mixer includes:\n\n \n\n\n	Networking Opportunities\n	Food & Beverages \n\n\nRegistration closes at 5pm on Wednesday\, April 24th.
X-ALT-DESC;FMTTYPE=text/html:<p style="margin: 0in 0in 0pt\; text-align: center\;"><span style="font-size: 18px\;"><span new="" style="color: black\; font-family:\;" times="">All Chamber members are cordially invited to join us for:<br />\n<br />\n<b>Chamber 101<br />\n&nbsp\;Thursday\, April 25th<br />\n4:00 PM to 6:00 PM</b><br />\n(In the Commerce Pointe Atrium)</span><br />\n<br />\n<strong>Healthcare Benefit Program 4:15<br />\nSmall Business Networking 5:00</strong><br />\n<br />\n<span new="" style="color: black\; font-family:\;" times="">This event is&nbsp\;FREE for all&nbsp\;<u>CHAMBER MEMBERS</u> and their staffs\,&nbsp\;but registration is required.&nbsp\;</span></span><br />\n<br />\n&nbsp\;</p>\n\n<p style="margin: 0in 0in 0pt\;"><span style="font-size: 10pt\;"><span style="font-family: verdana\,sans-serif\;"><span style="color: black\;">This informal mixer includes:</span></span></span><br />\n&nbsp\;</p>\n\n<ul>\n	<li style="color: black\;"><span style="font-size:14px\;"><font face="verdana\, sans-serif">Networking Opportunities</font></span></li>\n	<li style="color: black\;"><span style="font-size: 10pt\;"><span style="font-family: verdana\,sans-serif\;"><span style="font-size:14px\;">Food &amp\; Beverages</span>&nbsp\;</span></span></li>\n</ul>\n\n<p style="margin: 0in 0in 0pt\; text-align: center\;"><span style="font-size: 18px\;"><font face="Times New Roman"><font color="#ff0000">Registration closes at 5pm on Wednesday\, April 24th.</font></font></span><br />\n&nbsp\;</p>\n
LOCATION:Commerce Pointe Atrium 20 S. Limestone Street Springfield\, OH 45502
UID:e.1444.5019
SEQUENCE:3
DTSTAMP:20260422T143308Z
URL:https://business.greaterspringfield.com/events/details/chamber-101-04-25-2019-5019
END:VEVENT

END:VCALENDAR
