BEGIN:VCALENDAR
VERSION:2.0
PRODID:-//ChamberMaster//Event Calendar 2.0//EN
METHOD:PUBLISH
X-PUBLISHED-TTL:P3D
REFRESH-INTERVAL:P3D
CALSCALE:GREGORIAN
BEGIN:VEVENT
DTSTART:20190228T223000Z
DTEND:20190301T010000Z
X-MICROSOFT-CDO-ALLDAYEVENT:FALSE
SUMMARY:Chamber Annual Meeting: 02/28/2019
DESCRIPTION:Chamber Annual Meeting\n\nHollenbeck Bayley Center\n\n5:30pm - 8pm\n\n\n\nIf you are interested in sponsoring\, contact Chris Schutte at cschutte@greaterspringfield.com.\n\n\n\nIf you are a Diamond or Leadership Circle tiered member\, an Ambassador of The Chamber or you are an elected official\, contact Ellen Weaver at eweaver@greaterspringfield.com for possible discounted tickets.\n\n\n\nOur Business EXPO will be held on April 10th this year. Please check the events section of our website for details.\n\n\n\nRegistration closes at 5pm on Tuesday\, February 26th.\n\n\n\nCancellation requests must be made 24 hours in advance of the event to avoid being charged.
X-ALT-DESC;FMTTYPE=text/html:<span style="font-size:18px\;">Chamber Annual Meeting<br />\nHollenbeck Bayley Center<br />\n5:30pm - 8pm<br />\n<br />\nIf you are interested in sponsoring\, contact Chris Schutte at cschutte@greaterspringfield.com.<br />\n<br />\nIf you are a Diamond or Leadership Circle tiered member\, an Ambassador of The Chamber or you are an elected official\, contact Ellen Weaver at eweaver@greaterspringfield.com for possible discounted tickets.<br />\n<br />\nOur Business EXPO will be held on April 10th this year. Please check the events section of our website for details.<br />\n<br />\n<span style="color:#FF0000\;">Registration closes at 5pm on Tuesday\, February 26th.</span><br />\n<br />\n<span style="font-size:14px\;"><strong><u><span style="text-align: center\; background-color: rgb(255\, 255\, 255)\;"><font style=""><font face="Verdana" style="">Cancellation<b font-size:="" style="color: rgb(51\, 51\, 51)\; font-family: sans-serif\, Arial\, Verdana\, " trebuchet="">&nbsp\;requests must be made 24 hours in advance of the event to avoid&nbsp\;being charged.</b></font></font></span></u></strong></span></span>
LOCATION:Hollenbeck Bayley Center 275 S. Limestone St. Springfield\, OH 45505
UID:e.1444.5012
SEQUENCE:3
DTSTAMP:20260422T182514Z
URL:https://business.greaterspringfield.com/events/details/chamber-annual-meeting-02-28-2019-5012
END:VEVENT

END:VCALENDAR
