BEGIN:VCALENDAR
VERSION:2.0
PRODID:-//ChamberMaster//Event Calendar 2.0//EN
METHOD:PUBLISH
X-PUBLISHED-TTL:P3D
REFRESH-INTERVAL:P3D
CALSCALE:GREGORIAN
BEGIN:VEVENT
DTSTART:20190718T203000Z
DTEND:20190718T220000Z
X-MICROSOFT-CDO-ALLDAYEVENT:FALSE
SUMMARY:Chamber Night Out: North Spring Dental - 07/18/2019
DESCRIPTION:Join us for Chamber Night Out at North Spring Dental on July 18th.\n\nYou'll enjoy great food and drinks while making and renewing business contacts.\n\n\n\nIf your company is a Tiered Dues Member\, Silver level or higher\, please contact Ellen Weaver for possible discounted tickets at: 937.521.1944 or email eweaver@greaterspringfield.com\n\n\n\nAdvanced early bird registration ends 5 PM 07/17/19.\n\n\n\nCancellation requests must be made 24 hours in advance of the event to avoid   being charged.
X-ALT-DESC;FMTTYPE=text/html:<div style="text-align: center\;"><span style="color: rgb(75\, 0\, 130)\;"><span style="font-size: 16px\;"><span style="font-family: arial\;">Join us&nbsp\;for Chamber Night&nbsp\;Out at North Spring Dental&nbsp\;on July 18th.</span></span></span><br />\n<span style="font-size: 12px\;"><span style="font-family: arial\;"><span style="color: rgb(75\, 0\, 130)\;"><span style="font-size: 16px\;">You&#39\;ll enjoy great food&nbsp\;and drinks while&nbsp\;making&nbsp\;and renewing business contacts.</span></span><br />\n<br />\n<span style="color: rgb(0\, 0\, 205)\;"><strong>If your company is a Tiered Dues Member\, Silver level or higher\, please contact Ellen Weaver for possible discounted tickets at: 937.521.1944 or email eweaver@greaterspringfield.com</strong></span></span></span><br />\n<br />\n<strong><span style="color: rgb(255\, 0\, 0)\;">Advanced&nbsp\;early bird&nbsp\;registration ends&nbsp\;5 PM 07/17/19.</span></strong><br />\n<br />\n<strong><font color="#ff0000"><font face="Verdana">Cancellation requests must be made 24 hours in advance of the event to avoid <span id="cke_bm_114S" style="display: none\;">&nbsp\;</span><span style="display: none\;">&nbsp\;</span>being charged.</font><span id="cke_bm_113E" style="display: none\;"><font face="Comic Sans MS">&nbsp\;</font></span></font><span style="display: none\;">&nbsp\;</span><span style="display: none\;">&nbsp\;</span></strong></div>\n
LOCATION:North Spring Dental 4937 Middle Urbana Road Springfield\, OH 45503
UID:e.1444.5035
SEQUENCE:3
DTSTAMP:20260422T113359Z
URL:https://business.greaterspringfield.com/events/details/chamber-night-out-north-spring-dental-07-18-2019-5035
END:VEVENT

END:VCALENDAR
