BEGIN:VCALENDAR
VERSION:2.0
PRODID:-//ChamberMaster//Event Calendar 2.0//EN
METHOD:PUBLISH
X-PUBLISHED-TTL:P3D
REFRESH-INTERVAL:P3D
CALSCALE:GREGORIAN
BEGIN:VEVENT
DTSTART:20251211T213000Z
DTEND:20251211T233000Z
X-MICROSOFT-CDO-ALLDAYEVENT:FALSE
SUMMARY:Christmas at Commerce Pointe: 12/11/2025
DESCRIPTION:Save the Date!\n\n\n\nChristmas at Commerce Pointe is our member appreciation and annual holiday celebration offered FREE OF CHARGE to Partnership investors and their staff.\n\nThursday\, December 11th 4:30 pm- 6:30 pm\n\n\n\nOpen Bar!\n\nGreat Food!\n\nDoor Prizes! \n\nFREE for Partnership Members and your staff\n\n\n\nEvent Sponsor:\n\n\n	Invenergy\n	Tectonic Development\n	Sterling Wealth Management\n\n\n\n FOOD COURTESY OF:\n\n\n	Tropical Smoothie\n	Carmae Catering\n	Mela Urban Bistro\n	Young's Jersey Dairy\n	Chick-fil-A\n	Lee's Famous Recipe Chicken\n	Kay's Creations\n	Torte & Iron Cafe\n\n\n\nDOOR PRIZE COURTESY OF:\n\n\n	Big Fish Local\n	Dayton Dragons \n	Skyline Chili\n	Springfield Masonic Community\n	Alzheimer's Association Miami Valley Chapter\n	Fair at New Boston\n	Hampton Inn\n	Country Inn & Suites\n	Kettering Health\n	The MacRay Company
X-ALT-DESC;FMTTYPE=text/html:<span style="font-family:tahoma\;"><span style="font-size:20px\;">Save the Date!<br />\n<br />\nChristmas at&nbsp\;Commerce Pointe is our member appreciation and annual holiday celebration offered FREE OF CHARGE to Partnership&nbsp\;investors and their staff.</span></span>\n<div>\n<p><span style="font-size:20px\;">Thursday\, December 11th 4:30 pm- 6:30 pm</span></p>\n</div>\n\n<div>\n<p><span style="font-size:20px\;">Open Bar!<br />\nGreat Food!<br />\nDoor Prizes!&nbsp\;<br />\nFREE for Partnership Members and your staff</span><br />\n<br />\n<span style="font-size:24px\;"><strong><strong><span style="font-family: tahoma\;">Event Sponsor:</span></strong></strong></span></p>\n\n<ul>\n	<li><strong><span style="font-family:tahoma\;"><font color="#ff0000"><span style="font-size: 22px\;">Invenergy</span></font></span></strong></li>\n	<li><span style="color:#006400\;"><strong><span style="font-family:tahoma\;"><span style="font-size:22px\;">Tectonic Development</span></span></strong></span></li>\n	<li><strong><span style="font-family:tahoma\;"><span style="font-size:22px\;"><span style="color:#FF0000\;">Sterling Wealth Management</span></span></span></strong></li>\n</ul>\n<br />\n&#8203\;<strong><span style="font-size:16px\;"><strong style=""><span style="font-family: tahoma\; font-size: 22px\;">FOOD COURTESY OF:</span></strong></span></strong>\n\n<ul>\n	<li><strong><span style="font-size:16px\;"><strong style=""><span style="font-family: tahoma\; font-size: 22px\;"><span style="color:#FF0000\;">Tropical Smoothie</span></span></strong></span></strong></li>\n	<li><span style="color:#006400\;"><strong><span style="font-size:16px\;"><strong style=""><span style="font-family: tahoma\; font-size: 22px\;">Carmae Catering</span></strong></span></strong></span></li>\n	<li><strong><span style="font-size:16px\;"><strong style=""><span style="font-family: tahoma\; font-size: 22px\;"><span style="color:#FF0000\;">Mela Urban Bistro</span></span></strong></span></strong></li>\n	<li><span style="color:#006400\;"><strong><span style="font-size:16px\;"><strong style=""><span style="font-family: tahoma\; font-size: 22px\;">Young&#39\;s Jersey Dairy</span></strong></span></strong></span></li>\n	<li><span style="color:#FF0000\;"><strong><span style="font-size:16px\;"><strong style=""><span style="font-family: tahoma\; font-size: 22px\;">Chick-fil-A</span></strong></span></strong></span></li>\n	<li><span style="color:#006400\;"><strong><span style="font-size:16px\;"><strong style=""><span style="font-family: tahoma\; font-size: 22px\;">Lee&#39\;s Famous Recipe Chicken</span></strong></span></strong></span></li>\n	<li><strong><span style="font-size:16px\;"><strong style=""><span style="font-family: tahoma\; font-size: 22px\;"><span style="color:#FF0000\;">Kay&#39\;s Creations</span></span></strong></span></strong></li>\n	<li><font color="#008000" face="tahoma"><span style="font-size: 22px\;"><b>Torte &amp\; Iron Cafe</b></span></font></li>\n</ul>\n<br />\n<span style="font-size:16px\;"><strong style=""><span style="font-family: tahoma\; font-size: 22px\;">DOOR PRIZE COURTESY OF:</span></strong></span>\n\n<ul>\n	<li><span style="font-size:16px\;"><strong style=""><span style="font-family: tahoma\; font-size: 22px\;"><span style="color:#FF0000\;">Big Fish Local</span></span></strong></span></li>\n	<li><span style="color:#006400\;"><strong><span style="font-size:16px\;"><strong style=""><span style="font-family: tahoma\; font-size: 22px\;">Dayton Dragons&nbsp\;</span></strong></span></strong></span></li>\n	<li><span style="color:#FF0000\;"><strong><span style="font-size:16px\;"><strong style=""><span style="font-family: tahoma\; font-size: 22px\;">Skyline Chili</span></strong></span></strong></span></li>\n	<li><span style="font-family:tahoma\;"><font color="#006400"><span style="font-size: 22px\;"><b>Springfield Masonic Community</b></span></font></span></li>\n	<li><span style="font-family:tahoma\;"><strong><span style="font-size:22px\;"><span style="color:#FF0000\;">Alzheimer&#39\;s Association Miami Valley Chapter</span></span></strong></span></li>\n	<li><span style="font-size:22px\;"><span style="font-family:tahoma\;"><strong><span style="color:#006400\;">Fair at New Boston</span></strong></span></span></li>\n	<li><span style="font-size:22px\;"><span style="font-family:tahoma\;"><strong><span style="color:#FF0000\;">Hampton Inn</span></strong></span></span></li>\n	<li><span style="font-size:22px\;"><span style="font-family:tahoma\;"><strong><span style="color:#008000\;">Country Inn &amp\; Suites</span></strong></span></span></li>\n	<li><span style="font-size:22px\;"><span style="font-family:tahoma\;"><strong><span style="color:#FF0000\;">Kettering Health</span></strong></span></span></li>\n	<li><span style="font-size:22px\;"><span style="font-family:tahoma\;"><strong><span style="color:#006400\;">The MacRay Company</span></strong></span></span></li>\n</ul>\n</div>\n
LOCATION:Greater Springfield Partnership 20 S. Limestone St.\, Suite 100 Springfield\, OH 45502
UID:e.1444.5704
SEQUENCE:3
DTSTAMP:20260424T023107Z
URL:https://business.greaterspringfield.com/events/details/christmas-at-commerce-pointe-12-11-2025-5704
END:VEVENT

END:VCALENDAR
