BEGIN:VCALENDAR
VERSION:2.0
PRODID:-//ChamberMaster//Event Calendar 2.0//EN
METHOD:PUBLISH
X-PUBLISHED-TTL:P3D
REFRESH-INTERVAL:P3D
CALSCALE:GREGORIAN
BEGIN:VEVENT
DTSTART:20190416T180000Z
DTEND:20190416T220000Z
X-MICROSOFT-CDO-ALLDAYEVENT:FALSE
SUMMARY:Clark County Job Fair: 04/16/2019
DESCRIPTION:Clark County Job Fair\n\nHollenbeck Bayley Center\n\n2pm - 6pm\n\n\n\n1pm - 2pm: Clark County/Springfield City High School Students\n\n2pm - 6pm: General Public
X-ALT-DESC;FMTTYPE=text/html:Clark County Job Fair<br />\nHollenbeck Bayley Center<br />\n2pm - 6pm<br />\n<br />\n1pm - 2pm: Clark County/Springfield City High School Students<br />\n2pm - 6pm: General Public
LOCATION:Hollenbeck Bayley Center 275 S. Limestone St. Springfield\, OH 45505
UID:e.1444.5017
SEQUENCE:3
DTSTAMP:20260422T155259Z
URL:https://business.greaterspringfield.com/events/details/clark-county-job-fair-04-16-2019-5017
END:VEVENT

END:VCALENDAR
