BEGIN:VCALENDAR
VERSION:2.0
PRODID:-//ChamberMaster//Event Calendar 2.0//EN
METHOD:PUBLISH
X-PUBLISHED-TTL:P3D
REFRESH-INTERVAL:P3D
CALSCALE:GREGORIAN
BEGIN:VEVENT
DTSTART:20190418T120000Z
DTEND:20190418T133000Z
X-MICROSOFT-CDO-ALLDAYEVENT:FALSE
SUMMARY:Coffee with State Rep. Kyle Koehler - 04/18/2019
DESCRIPTION:Coffee with State Rep. Kyle Koehler\n\nCommerce Pointe Atrium (Chamber Offices)\n\nStarting at 8am\n\n\n\nFree to Members but you must register.\n\n\n\nSponsored by AT&T\n\n\n\nBreakfast sandwiches and coffee included.
X-ALT-DESC;FMTTYPE=text/html:Coffee with State Rep. Kyle Koehler<br />\nCommerce Pointe Atrium (Chamber Offices)<br />\nStarting at 8am<br />\n<br />\nFree to Members but you must register.<br />\n<br />\nSponsored by AT&amp\;T<br />\n<br />\nBreakfast sandwiches and coffee included.
LOCATION:The Chamber of Greater Springfield 20 S. Limestone St. (Atrium) Springfield\, OH 45502
UID:e.1444.5018
SEQUENCE:3
DTSTAMP:20260422T143415Z
URL:https://business.greaterspringfield.com/events/details/coffee-with-state-rep-kyle-koehler-04-18-2019-5018
END:VEVENT

END:VCALENDAR
