BEGIN:VCALENDAR
VERSION:2.0
PRODID:-//ChamberMaster//Event Calendar 2.0//EN
METHOD:PUBLISH
X-PUBLISHED-TTL:P3D
REFRESH-INTERVAL:P3D
CALSCALE:GREGORIAN
BEGIN:VEVENT
DTSTART:20190509T120000Z
DTEND:20190509T133000Z
X-MICROSOFT-CDO-ALLDAYEVENT:FALSE
SUMMARY:Connect-4-Coffee: 05/09/2019
DESCRIPTION:Connect-4-Coffee\n\nStructured Networking - Roundtable\n\nCommerce Pointe Atruim\n\nMay 9\, 2019\n\nStarting at 8am\n\nCost to Members: $15\n\n\n\nSeating is limited to 21 attendees. Pre-registration is required.\n\n(Registration is closed.)\n\n\n\nRegistration ends on May 8th at 5pm.\n\n\n\nCancellation requests must be received 24hrs in advance of the event date to avoid being charged.
X-ALT-DESC;FMTTYPE=text/html:Connect-4-Coffee<br />\nStructured Networking - Roundtable<br />\nCommerce Pointe Atruim<br />\nMay 9\, 2019<br />\nStarting at 8am<br />\nCost to Members: $15<br />\n<br />\nSeating is limited to 21 attendees. Pre-registration is required.<br />\n<span style="color:#FF0000\;">(Registration is closed.)</span><br />\n<br />\nRegistration ends on May 8th at 5pm.<br />\n<br />\nCancellation requests must be received 24hrs in advance of the event date to avoid being charged.
LOCATION:Greater Springfield Chamber of Commerce 20 S. Limestone St.\, Suite 100 Springfield\, OH 45502
UID:e.1444.5022
SEQUENCE:3
DTSTAMP:20260422T125504Z
URL:https://business.greaterspringfield.com/events/details/connect-4-coffee-05-09-2019-5022
END:VEVENT

END:VCALENDAR
