BEGIN:VCALENDAR
VERSION:2.0
PRODID:-//ChamberMaster//Event Calendar 2.0//EN
METHOD:PUBLISH
X-PUBLISHED-TTL:P3D
REFRESH-INTERVAL:P3D
CALSCALE:GREGORIAN
BEGIN:VEVENT
DTSTART:20190530T153000Z
DTEND:20190530T170000Z
X-MICROSOFT-CDO-ALLDAYEVENT:FALSE
SUMMARY:Federal Legislative Update: Warren Davidson - 05/30/2019
DESCRIPTION:Federal Legislative Update: Congressman Warren Davidson\n\nMay 30\, 2019\n\n11:30am - 1pm\n\n\n\nMembers: $15 (Tiered dues members Silver and up may use free tickets. Check with Ellen at eweaver@greaterspringfield.com.)\n\n\n\nNon-Members: $20\n\n\n\nRegistration Closes: May 28th at 5pm\n\n\n\nCancellation requested must be received 24hrs in advance of the event to avoid being charged.
X-ALT-DESC;FMTTYPE=text/html:<span style="font-size:20px\;">Federal Legislative Update: Congressman Warren Davidson<br />\nMay 30\, 2019<br />\n11:30am - 1pm<br />\n<br />\nMembers: $15 (Tiered dues members Silver and up may use free tickets. Check with Ellen at eweaver@greaterspringfield.com.)<br />\n<br />\nNon-Members: $20<br />\n<br />\nRegistration Closes: May 28th at 5pm<br />\n<br />\nCancellation requested must be received 24hrs in advance of the event to avoid being charged.</span>
LOCATION:Courtyard Marriott 100 S. Fountain Ave. Springfield\, OH 45502
UID:e.1444.5029
SEQUENCE:3
DTSTAMP:20260422T125622Z
URL:https://business.greaterspringfield.com/events/details/federal-legislative-update-warren-davidson-05-30-2019-5029
END:VEVENT

END:VCALENDAR
