BEGIN:VCALENDAR
VERSION:2.0
PRODID:-//ChamberMaster//Event Calendar 2.0//EN
METHOD:PUBLISH
X-PUBLISHED-TTL:P3D
REFRESH-INTERVAL:P3D
CALSCALE:GREGORIAN
BEGIN:VEVENT
DTSTART:20190328T123000Z
DTEND:20190328T190000Z
X-MICROSOFT-CDO-ALLDAYEVENT:FALSE
SUMMARY:Glenn Shepard Seminar: 03/28/2019
DESCRIPTION:Hire With Confidence\, Fire Without Fear\, Tame Toxic Employees and Put Your Team on the Fast Track to Record-Shattering Success\n \n\n2019 Business Seminar\n\n"How to Supervise People and Lead a Team"\n\n8:30 AM to 3:00 PM\n\nMarch 28th\, 2019\n\nAt the Courtyard by Marriott - Downtown\n\nWith Glenn Shepard\n \n\nThis is a world class professional development course designed specifically for supervisors on the front line\, who directly manage two or more employees. It's for managers who are "in the trenches"\, like the restaurant manager who can't open tonight because three of his servers didn't show up for work\, the dentist who spends as much time dealing with her employees as treating patients\, etc.\n\n \n\nIn this full day seminar\, these top 9 modules will be covered:\n\n \n\nModule 1: How to Find Good People when the Labor Market is Tight\n\nModule 2: How to Manage\, Motivate\, and Communicate with Millennials\n\nModule 3: Behavioral Psychology for Managers \n\nModule 4: How to Do Performance Evaluations\n\nModule 5: How to Reduce Tardiness and Absenteeism\n\nModule 6: How to Motivate People\n\nModule 7: Advanced Supervisory Skills for Managers\n\nModule 8: How to Use Affirmative Discipline to Correct People When They Get Off Track   without Demoralizing Them\n\nModule 9: How to Fire Without Fear\n\n \n\nGlenn Shepard  is recognized worldwide as one of today's leading authorities on management and motivation. He's the best selling author of six books\, which have been translated into five foreign languages\, and over 600 published articles. His seminar is now the #1 rated management and front-line supervisory training in America.\n\n \n\nThe Chamber of Greater Springfield has worked out a great deal for you on the tuition.  Managers have paid as much as $1\,295 to hear Glenn Shepard speak.  You\, as a member of the Chamber\, may attend this event for only $197\, and your 4th company registration is FREE! (Contact Ellen at 937.325.7621\, Ext 324.)  Non-chamber member tuition is $247.  This seminar is approved for 5.00 (General) recertification credit hours toward PHR\, SPHR and GPHR recertification through the HR Certification Institute and SHRM.\n\n\n\nLunch is not included.\n\n \n\nSign up:\n\n Link for members:  GreaterSpringfield.com  \n\nNon Members Call:    Ellen Weaver at the 937-325-7621  Ext. 324\n\n\n\nRegistration ends March 27th.\n\n\n\nCancellation requests must be made 48 hours in advance of the event to avoid being charged.
X-ALT-DESC;FMTTYPE=text/html:<div style="text-align: center\;"><strong><span style="font-family:arial black\,sans-serif\;"><span style="font-size:14.0pt\;">Hire With Confidence\, Fire Without Fear\,&nbsp\;</span></span></strong><strong><span style="font-family:arial black\,sans-serif\;"><span style="font-size:14.0pt\;">Tame Toxic Employees&nbsp\;</span></span></strong><strong><span style="font-family:arial black\,sans-serif\;"><span style="font-size:14.0pt\;">and Put Your Team on the&nbsp\;</span></span></strong><strong><span style="font-family:arial black\,sans-serif\;"><span style="font-size:14.0pt\;">Fast Track to Record-Shattering Success</span></span></strong></div>\n&nbsp\;\n\n<div style="text-align: center\;"><span style="font-size:14.0pt\;">2019 Business Seminar</span><br />\n<strong><span style="font-size:14.0pt\;">&ldquo\;How to Supervise People and Lead a Team&rdquo\;</span></strong><br />\n<strong><span style="font-size:14.0pt\;">8:30 AM to 3:00 PM</span></strong><br />\n<strong><span style="font-size:14.0pt\;">March 28<sup>th</sup>\, 2019</span></strong><br />\n<strong><span style="font-size:14.0pt\;">At the Courtyard by Marriott - Downtown</span></strong><br />\n<span style="font-size:14.0pt\;">With Glenn Shepard</span></div>\n&nbsp\;<br />\n<span style="background:white\;"><span style="color:black\;"><span style="font-size:12.0pt\;">This is a world class professional development course designed specifically for supervisors on the front line\, who directly manage two or more employees. It&#39\;s for managers who are &quot\;in the trenches&quot\;\, like the restaurant manager who can&#39\;t open tonight because three of his servers didn&#39\;t show up for work\, the dentist who spends as much time dealing with her employees as treating patients\, etc.</span></span></span><br />\n&nbsp\;<br />\n<span style="background:white\;"><span style="color:black\;"><span style="font-size:12.0pt\;">In this full day seminar\, these top 9 modules will be covered:</span></span></span><br />\n&nbsp\;<br />\n<strong><span style="background:white\;"><span style="color:black\;"><span style="font-family:calibri\,sans-serif\;"><span style="font-size:12.0pt\;">Module 1: How to Find Good People when the Labor Market is Tight</span></span></span></span></strong><br />\n<strong><span style="background:white\;"><span style="color:black\;"><span style="font-family:calibri\,sans-serif\;"><span style="font-size:12.0pt\;">Module 2: How to Manage\, Motivate\, and Communicate with Millennials</span></span></span></span></strong><br />\n<strong><span style="background:white\;"><span style="color:black\;"><span style="font-family:calibri\,sans-serif\;"><span style="font-size:12.0pt\;">Module 3: Behavioral Psychology for Managers&nbsp\;</span></span></span></span></strong><br />\n<strong><span style="background:white\;"><span style="color:black\;"><span style="font-family:calibri\,sans-serif\;"><span style="font-size:12.0pt\;">Module 4: How to Do Performance Evaluations</span></span></span></span></strong><br />\n<span style="font-size:14px\;"><strong><span style="background:white\;"><span style="color:black\;">Module 5:&nbsp\;How to Reduce Tardiness and Absenteeism</span></span></strong></span><br />\n<strong><span style="background:white\;"><span style="color:black\;"><span style="font-family:calibri\,sans-serif\;"><span style="font-size:12.0pt\;">Module 6:&nbsp\;How to Motivate People</span></span></span></span></strong><br />\n<strong><span style="background:white\;"><span style="color:black\;"><span style="font-family:calibri\,sans-serif\;"><span style="font-size:12.0pt\;">Module 7: Advanced Supervisory Skills for Managers</span></span></span></span></strong><br />\n<strong><span style="background:white\;"><span style="color:black\;"><span style="font-family:calibri\,sans-serif\;"><span style="font-size:12.0pt\;">Module 8: How to Use Affirmative Discipline to Correct People When They Get Off Track &ndash\; without Demoralizing Them</span></span></span></span></strong><br />\n<strong><span style="background:white\;"><span style="color:black\;"><span style="font-family:calibri\,sans-serif\;"><span style="font-size:12.0pt\;">Module 9: How to Fire Without Fear</span></span></span></span></strong><br />\n&nbsp\;<br />\n<em><strong><span style="background:white\;"><span style="color:#6A6A6A\;"><span style="font-family:arial\,sans-serif\;">Glenn Shepard </span></span></span></strong></em><span style="background:white\;"><span style="color:#545454\;"><span style="font-family:arial\,sans-serif\;">&nbsp\;is recognized worldwide as one of today&#39\;s leading authorities on management and motivation. He&#39\;s the best selling author of six books\, which have been translated into five foreign languages\, and over 600 published articles. His seminar is now the <em>#1 rated management and front</em>-<em>line supervisory training in America.</em></span></span></span><br />\n&nbsp\;<br />\n<strong><span style="background:white\;"><span style="color:black\;"><span style="font-family:calibri\,sans-serif\;"><span style="font-size:12.0pt\;">The Chamber of Greater Springfield has worked out a great deal for you on the tuition.&nbsp\; Managers have paid as much as $1\,295 to hear Glenn Shepard speak.&nbsp\; You\, as a member of the Chamber\, may attend this event for only $197\, and your 4th company registration is FREE! (Contact Ellen at 937.325.7621\, Ext 324.)&nbsp\; Non-chamber member tuition is $247.&nbsp\; This seminar is approved for 5.00 (General) recertification credit hours toward PHR\, SPHR and GPHR recertification through the HR Certification Institute and SHRM.<br />\n<br />\nLunch is not included.</span></span></span></span></strong><br />\n&nbsp\;<br />\n<strong><span style="background:white\;"><span style="color:black\;"><span style="font-family:calibri\,sans-serif\;"><span style="font-size:12.0pt\;">Sign up:</span></span></span></span></strong><br />\n<strong><span style="background:white\;"><span style="color:black\;"><span style="font-family:calibri\,sans-serif\;"><span style="font-size:12.0pt\;">&nbsp\;Link for members:&nbsp\; GreaterSpringfield.com&nbsp\; </span></span></span></span></strong><br />\n<strong><span style="background:white\;"><span style="color:black\;"><span style="font-family:calibri\,sans-serif\;"><span style="font-size:12.0pt\;">Non Members Call:&nbsp\;&nbsp\;&nbsp\; Ellen Weaver at the 937-325-7621&nbsp\; Ext. 324<br />\n<br />\nRegistration ends March 27th.</span></span></span></span></strong><br />\n<br />\n<strong><span style="color:#FF0000\;">Cancellation requests must be made 48 hours in advance of the event to avoid being charged.</span></strong><br />\n&nbsp\;
LOCATION:Courtyard by Marriott 100 S. Fountain Ave. Springfield\, OH 45502
UID:e.1444.5014
SEQUENCE:3
DTSTAMP:20260422T155035Z
URL:https://business.greaterspringfield.com/events/details/glenn-shepard-seminar-03-28-2019-5014
END:VEVENT

END:VCALENDAR
