BEGIN:VCALENDAR
VERSION:2.0
PRODID:-//ChamberMaster//Event Calendar 2.0//EN
METHOD:PUBLISH
X-PUBLISHED-TTL:P3D
REFRESH-INTERVAL:P3D
CALSCALE:GREGORIAN
BEGIN:VEVENT
DTSTART:20190611T110000Z
DTEND:20190611T123000Z
X-MICROSOFT-CDO-ALLDAYEVENT:FALSE
SUMMARY:Safety Council Meeting: 06/11/2019 - The Eyes Have It
DESCRIPTION:Springfield -Clark County Safety Council\n\n\n\nTuesday\, June 11\, 2019\n\nBreakfast 7:00 am - 7:30 am\n\nMeeting 7:30 am - 8:30 am\n\nCourtyard by Marriott Downtown Springfield\n\n$20 per attendee unless prepaid\n\n\n\nThe Eyes Have It\n\nSpeaker: Darlene Carpenter\n\nCascade Corporation\n\n\n\n\n\nPlease RSVP even if pre-paid\n\nTo Register:\n\ne-mail vkelly@greaterspringfield.com\n\nor\n\nwww.greaterspringfield.com   Chamber of Commerce   Upcoming Events\n\nor\n\n         call (937) 521-1939                  \n\nYou must be prepaid for the year or pay at the door. We cannot invoice for this event. Payment can be made with cash\, check\, Visa/MasterCard/AMEX/Discover prior to or at the meeting.\n\n\n\nAdditional parking at the Heritage Center lot.\n\n\n\nReservations must be received or canceled by 2pm the day prior to the meeting.
X-ALT-DESC;FMTTYPE=text/html:<p class="MsoNormal" style="margin: 0in 0in 0pt\; text-align: center\;"><span style="color: rgb(255\, 140\, 0)\;"><strong><span style="font-size: 18pt\;"><span style="font-family: comic sans ms\;">Springfield</span></span></strong> <strong><span style="font-size: 18pt\;"><span style="font-family: comic sans ms\;">-Clark County Safety Council</span></span></strong></span><br />\n<br />\n<strong><span style="font-size: 13.5pt\;"><span style="font-family: comic sans ms\;"><span style="color: rgb(0\, 64\, 128)\;">Tuesday\, June 11\,&nbsp\;2019</span></span></span></strong><br />\n<span style="font-size: 10pt\;"><span style="font-family: comic sans ms\;"><span style="color: rgb(0\, 64\, 128)\;">Breakfast 7:00 am - 7:30 am<br />\nMeeting 7:30 am - 8:30 am</span></span></span><br />\n<span style="font-size: 10pt\;"><span style="font-family: comic sans ms\;"><span style="color: rgb(0\, 64\, 128)\;">Courtyard by Marriott Downtown Springfield<br />\n$20 per attendee unless prepaid</span></span></span><br />\n<br />\n<span style="font-size: 18px\;"><b><span style="color: rgb(191\, 83\, 0)\; font-family:\;"><u>The Eyes Have It</u></span></b></span><br />\n<span style="font-size: 18px\;"><b><span style="color: rgb(191\, 83\, 0)\; font-family:\;">Speaker: Darlene Carpenter<br />\nCascade Corporation</span></b></span><br />\n<br />\n<br />\n<strong><em><span style="font-size: 10pt\;"><span style="font-family: comic sans ms\;"><span style="color: rgb(0\, 64\, 128)\;">Please RSVP even if pre-paid</span></span></span></em></strong></p>\n\n<p class="MsoNormal" style="margin: 0in 0in 0pt\; text-align: center\;"><strong><span style="font-size: 13.5pt\;"><span style="font-family: comic sans ms\;"><span style="color: rgb(0\, 64\, 128)\;">To Register:</span></span></span></strong><br />\n<span style="font-size: 13.5pt\;"><span style="font-family: comic sans ms\;"><span style="color: rgb(0\, 64\, 128)\;">e-mail vkelly@greaterspringfield.com<br />\nor</span></span></span><br />\n<a href="http://www.greaterspringfield.com/"><span style="font-size: 13.5pt\;"><span style="font-family: comic sans ms\;"><span style="color: purple\;">www.greaterspringfield.com</span></span></span></a><span style="font-size: 13.5pt\;"><span style="font-family: comic sans ms\;"><span style="color: rgb(0\, 64\, 128)\;"> &ndash\; Chamber of Commerce &ndash\; Upcoming Events<br />\nor<br />\n&nbsp\; &nbsp\; &nbsp\; &nbsp\; &nbsp\;call (937) 521-1939</span></span></span>&nbsp\;&nbsp\;&nbsp\;&nbsp\;&nbsp\;&nbsp\;&nbsp\;&nbsp\;&nbsp\;&nbsp\;&nbsp\;&nbsp\;&nbsp\;&nbsp\;&nbsp\;&nbsp\;&nbsp\;&nbsp\;<br />\n<span style="font-size: medium\;"><strong><span style="font-family: comic sans ms\;"><span style="color: rgb(0\, 64\, 128)\;">You must be prepaid for the year or pay at the door. We cannot invoice for this event. Payment can be made with cash\, check\, Visa/MasterCard/AMEX/Discover prior to or at the meeting.</span></span></strong></span><br />\n<br />\n<strong><span style="font-size: 10pt\;"><span style="font-family: comic sans ms\;"><span style="color: black\;">Additional parking at the Heritage Center lot.</span></span></span></strong><br />\n<br />\n<span style="color: rgb(255\, 0\, 0)\;"><strong><span style="font-size: 10pt\;"><span style="font-family: comic sans ms\;">Reservations must be received or canceled by 2pm the day prior to the meeting.</span></span></strong></span><br />\n&nbsp\;</p>\n
LOCATION:Courtyard by Marriott 100 S. Fountain Ave. Springfield\, OH 45502
UID:e.1444.5008
SEQUENCE:3
DTSTAMP:20260422T112043Z
URL:https://business.greaterspringfield.com/events/details/safety-council-meeting-06-11-2019-the-eyes-have-it-5008
END:VEVENT

END:VCALENDAR
