BEGIN:VCALENDAR
VERSION:2.0
PRODID:-//ChamberMaster//Event Calendar 2.0//EN
METHOD:PUBLISH
X-PUBLISHED-TTL:P3D
REFRESH-INTERVAL:P3D
CALSCALE:GREGORIAN
BEGIN:VEVENT
DTSTART:20251209T123000Z
DTEND:20251209T133000Z
X-MICROSOFT-CDO-ALLDAYEVENT:FALSE
SUMMARY:Safety Council Meeting: 12/09/2025
DESCRIPTION:Safety Council Meeting\n\nDecember 9\, 2025\n\nRegistration is Mandatory to Attend\n\n\n\n \n"Enhancing Workplace \n\nSafety and Security"\n\nPresented by\n\nDavid Lyle\n\n\n\n \nA drawing for a $25 Speedway fuel card will be held after the meeting. The winner will be drawn from the list of those in attendance.\n\n\n\nIf you need further information please contact Nancy Wintrow at nwintrow@greaterspringfield.com.
X-ALT-DESC;FMTTYPE=text/html:<div style="text-align: center\;"><span style="font-size:20px\;"><span style="font-size:22px\;">Safety Council Meeting<br />\nDecember 9\, 2025<br />\nRegistration is Mandatory to Attend</span></span><br />\n<br />\n&nbsp\;\n<p align="center" style="text-align:center"><b><span style="font-size:21.0pt\;\nfont-family:&quot\;Arial&quot\;\,sans-serif\;color:#A53528\;background:white">&ldquo\;Enhancing Workplace </span></b><span style="font-size:9.0pt\;font-family:&quot\;Arial&quot\;\,sans-serif\;\ncolor:#403F42"><o:p></o:p></span></p>\n\n<p align="center" style="text-align:center"><b><span style="font-size:21.0pt\;\nfont-family:&quot\;Arial&quot\;\,sans-serif\;color:#A53528\;background:white">Safety and Security&quot\;</span></b><span style="font-size:9.0pt\;font-family:&quot\;Arial&quot\;\,sans-serif\;\ncolor:#403F42"><o:p></o:p></span></p>\n\n<p align="center" style="text-align:center"><span style="font-family:&quot\;Arial&quot\;\,sans-serif\;\ncolor:#403F42">Presented by</span><span style="font-size:9.0pt\;font-family:\n&quot\;Arial&quot\;\,sans-serif\;color:#403F42"><o:p></o:p></span></p>\n\n<p align="center" style="text-align:center"><b><span style="font-size:16.5pt\;\nfont-family:&quot\;Arial&quot\;\,sans-serif\;color:black\;background:white">David Lyle</span></b><br />\n<br />\n&nbsp\;</p>\n<span style="font-size:20px\;"><span style="font-size:22px\;">A drawing for a $25 Speedway fuel card will be held after the meeting. The winner will be drawn from the list of those in attendance.<br />\n<br />\nIf you need further information please contact Nancy Wintrow&nbsp\;at nwintrow@greaterspringfield.com.</span></span></div>\n
LOCATION:Courtyard Marriott 100 S. Fountain Ave. Springfield\, OH 45502
UID:e.1444.5735
SEQUENCE:3
DTSTAMP:20260424T023351Z
URL:https://business.greaterspringfield.com/events/details/safety-council-meeting-12-09-2025-5735
END:VEVENT

END:VCALENDAR
