BEGIN:VCALENDAR
VERSION:2.0
PRODID:-//ChamberMaster//Event Calendar 2.0//EN
METHOD:PUBLISH
X-PUBLISHED-TTL:P3D
REFRESH-INTERVAL:P3D
CALSCALE:GREGORIAN
BEGIN:VEVENT
DTSTART:20260310T113000Z
DTEND:20260310T123000Z
X-MICROSOFT-CDO-ALLDAYEVENT:FALSE
SUMMARY:Safety Council Meeting: 3/10/2026
DESCRIPTION:Safety Council Meeting\n\nMarch 10\, 2026\n\nRegistration is Mandatory to Attend\n\n\n\n \n"Permit Required Confined Spaces"\n\nPresented by\n\nKaren Basso\n\nSafety Curriculum & Program Specialist\n\nMid-America OSHA\n\n\n\n\n\n\nA drawing for a $25 Speedway fuel card will be held after the meeting. The winner will be drawn from the list of those in attendance.\n\n\n\nIf you need further information please contact Nancy Wintrow at nwintrow@greaterspringfield.com.
X-ALT-DESC;FMTTYPE=text/html:<div style="text-align: center\;"><span style="font-size:20px\;"><span style="font-size:22px\;">Safety Council Meeting<br />\nMarch 10\, 2026<br />\nRegistration is Mandatory to Attend</span></span><br />\n<br />\n&nbsp\;\n<p align="center" style="text-align:center"><b><span style="font-size:21.0pt\;\nfont-family:&quot\;Arial&quot\;\,sans-serif\;color:#A53528\;background:white">&ldquo\;Permit Required Confined Spaces&quot\;</span></b><span style="font-size:9.0pt\;font-family:&quot\;Arial&quot\;\,sans-serif\;\ncolor:#403F42"><o:p></o:p></span></p>\n\n<p align="center" style="text-align:center"><span style="font-family:&quot\;Arial&quot\;\,sans-serif\;\ncolor:#403F42">Presented by</span><span style="font-size:9.0pt\;font-family:\n&quot\;Arial&quot\;\,sans-serif\;color:#403F42"><o:p></o:p></span></p>\n\n<p align="center" style="text-align:center"><b><span style="font-size:17.5pt\;\nfont-family:&quot\;Arial&quot\;\,sans-serif\;color:black\;background:white">Karen Basso</span></b><span style="font-size:9.0pt\;font-family:&quot\;Arial&quot\;\,sans-serif\;color:#403F42"><o:p></o:p></span></p>\n\n<p align="center" style="text-align:center"><b><span style="font-size:14.5pt\;\nfont-family:&quot\;Arial&quot\;\,sans-serif\;color:black\;background:white">Safety Curriculum &amp\; Program Specialist</span></b><span style="font-size:9.0pt\;font-family:\n&quot\;Arial&quot\;\,sans-serif\;color:#403F42"><o:p></o:p></span><br />\n<b><span style="font-size:14.5pt\;\nfont-family:&quot\;Arial&quot\;\,sans-serif\;color:black\;background:white">Mid-America OSHA</span></b><br />\n<br />\n<br />\n<span style="font-size:9.0pt\;font-family:&quot\;Arial&quot\;\,sans-serif\;color:#403F42"><o:p></o:p></span></p>\n<span style="font-size:20px\;"><span style="font-size:22px\;">A drawing for a $25 Speedway fuel card will be held after the meeting. The winner will be drawn from the list of those in attendance.<br />\n<br />\nIf you need further information please contact Nancy Wintrow&nbsp\;at nwintrow@greaterspringfield.com.</span></span></div>\n
LOCATION:Courtyard Marriott 100 S. Fountain Ave. Springfield\, OH 45502
UID:e.1444.5773
SEQUENCE:3
DTSTAMP:20260423T225002Z
URL:https://business.greaterspringfield.com/events/details/safety-council-meeting-3-10-2026-5773
END:VEVENT

END:VCALENDAR
