BEGIN:VCALENDAR
VERSION:2.0
PRODID:-//ChamberMaster//Event Calendar 2.0//EN
METHOD:PUBLISH
X-PUBLISHED-TTL:P3D
REFRESH-INTERVAL:P3D
CALSCALE:GREGORIAN
BEGIN:VEVENT
DTSTART:20260414T113000Z
DTEND:20260414T123000Z
X-MICROSOFT-CDO-ALLDAYEVENT:FALSE
SUMMARY:Safety Council Meeting: 4/14/2026
DESCRIPTION:Safety Council Meeting\n\nApril 14\, 2026\n\nRegistration is Mandatory to Attend\n\n\n\n \n"Claims Management" \n\nPresented by \n\nTina Mayo\n\nSenior Account Manager\n\nSheakley UniService\n\n\n\n\n\n\nA drawing for a $25 Speedway fuel card will be held after the meeting. The winner will be drawn from the list of those in attendance.\n\n\n\nIf you need further information please contact Nancy Wintrow at nwintrow@greaterspringfield.com.
X-ALT-DESC;FMTTYPE=text/html:<div style="text-align: center\;"><span style="font-size:20px\;"><span style="font-size:22px\;">Safety Council Meeting<br />\nApril 14\, 2026<br />\nRegistration is Mandatory to Attend</span></span><br />\n<br />\n&nbsp\;\n<p align="center" style="text-align:center"><b><span style="font-size:21.0pt\;\nfont-family:&quot\;Arial&quot\;\,sans-serif\;color:#A53528\;background:white">&ldquo\;Claims Management&quot\;</span></b><span style="font-size:9.0pt\;font-family:&quot\;Arial&quot\;\,sans-serif\;\ncolor:#403F42"><o:p></o:p></span><span style="font-size:9.0pt\;\nfont-family:&quot\;Arial&quot\;\,sans-serif\;color:#403F42"><o:p>&nbsp\;</o:p></span></p>\n\n<p align="center" style="text-align:center"><span style="font-family:&quot\;Arial&quot\;\,sans-serif\;\ncolor:#403F42">Presented by</span><span style="font-size:9.0pt\;font-family:\n&quot\;Arial&quot\;\,sans-serif\;color:#403F42"><o:p></o:p></span><span style="font-size:9.0pt\;\nfont-family:&quot\;Arial&quot\;\,sans-serif\;color:#403F42"><o:p>&nbsp\;</o:p></span></p>\n\n<p align="center" style="text-align:center"><b><span style="font-size:17.5pt\;\nfont-family:&quot\;Arial&quot\;\,sans-serif\;color:black\;background:white">Tina Mayo</span></b><span style="font-size:9.0pt\;font-family:&quot\;Arial&quot\;\,sans-serif\;color:#403F42"><o:p></o:p></span><br />\n<b><span style="font-size:14.5pt\;\nfont-family:&quot\;Arial&quot\;\,sans-serif\;color:black\;background:white">Senior Account Manager</span></b><span style="font-size:9.0pt\;font-family:&quot\;Arial&quot\;\,sans-serif\;\ncolor:#403F42"><o:p></o:p></span><br />\n<b><span style="font-size:14.5pt\;\nfont-family:&quot\;Arial&quot\;\,sans-serif\;color:black\;background:white">Sheakley UniService</span></b><br />\n<br />\n<br />\n<span style="font-size:9.0pt\;font-family:&quot\;Arial&quot\;\,sans-serif\;\ncolor:#403F42"><o:p></o:p></span></p>\n<span style="font-size:20px\;"><span style="font-size:22px\;">A drawing for a $25 Speedway fuel card will be held after the meeting. The winner will be drawn from the list of those in attendance.<br />\n<br />\nIf you need further information please contact Nancy Wintrow&nbsp\;at nwintrow@greaterspringfield.com.</span></span></div>\n
LOCATION:Courtyard Marriott 100 S. Fountain Ave. Springfield\, OH 45502
UID:e.1444.5774
SEQUENCE:3
DTSTAMP:20260423T213449Z
URL:https://business.greaterspringfield.com/events/details/safety-council-meeting-4-14-2026-5774
END:VEVENT

END:VCALENDAR
