BEGIN:VCALENDAR
VERSION:2.0
PRODID:-//ChamberMaster//Event Calendar 2.0//EN
METHOD:PUBLISH
X-PUBLISHED-TTL:P3D
REFRESH-INTERVAL:P3D
CALSCALE:GREGORIAN
BEGIN:VEVENT
DTSTART:20260609T113000Z
DTEND:20260609T123000Z
X-MICROSOFT-CDO-ALLDAYEVENT:FALSE
SUMMARY:Safety Council Meeting: 6/9/2026
DESCRIPTION:Safety Council Meeting\n\nJune 9\, 2026\n\nRegistration is Mandatory to Attend\n\n\n \nA drawing for a $25 Speedway fuel card will be held after the meeting. The winner will be drawn from the list of those in attendance.\n\n\n\nIf you need further information please contact Nancy Wintrow at nwintrow@greaterspringfield.com.
X-ALT-DESC;FMTTYPE=text/html:<div style="text-align: center\;"><span style="font-size:20px\;"><span style="font-size:22px\;">Safety Council Meeting<br />\nJune 9\, 2026<br />\nRegistration is Mandatory to Attend</span></span>\n<p align="center" style="text-align:center"><br />\n&nbsp\;</p>\n<span style="font-size:20px\;"><span style="font-size:22px\;">A drawing for a $25 Speedway fuel card will be held after the meeting. The winner will be drawn from the list of those in attendance.<br />\n<br />\nIf you need further information please contact Nancy Wintrow&nbsp\;at nwintrow@greaterspringfield.com.</span></span></div>\n
LOCATION:Courtyard Marriott 100 S. Fountain Ave. Springfield\, OH 45502
UID:e.1444.5776
SEQUENCE:3
DTSTAMP:20260423T185907Z
URL:https://business.greaterspringfield.com/events/details/safety-council-meeting-6-9-2026-5776
END:VEVENT

END:VCALENDAR
