BEGIN:VCALENDAR
VERSION:2.0
PRODID:-//ChamberMaster//Event Calendar 2.0//EN
METHOD:PUBLISH
X-PUBLISHED-TTL:P3D
REFRESH-INTERVAL:P3D
CALSCALE:GREGORIAN
BEGIN:VEVENT
DTSTART;VALUE=DATE:20190430
DTEND;VALUE=DATE:20190701
TRANSP:TRANSPARENT
X-MICROSOFT-CDO-ALLDAYEVENT:TRUE
SUMMARY:Safety Council Prepay: July 2019 - June 2020
DESCRIPTION:Springfield   Clark County Safety Council\n\n\n\nPre-Pay & $AVE\n\n\n\nJuly 2019-June 2020\n\nPREPAY $200 by June 30th\n\nand attend\n\n12 meetings for the price of 10! \n\nINCLUDES 50% DISCOUNT FOR ONE SEMINAR\n\n\n\n-or- prepay online for each individual meeting\n\n-or- pay at the door at each meeting with cash/check/credit (Visa/MasterCard/Discover/AMEX) \n\nMeetings will run a flat rate of $20 prepaid or pay at the door.
X-ALT-DESC;FMTTYPE=text/html:<p style="text-align: center\;"><font color="maroon" face="Arial Rounded MT Bold"><font color="#004080">&nbsp\;<strong><span style="font-size: 18pt\;"><span style="font-family: comic sans ms\;"><span style="color: rgb(216\, 103\, 10)\;">Springfield &bull\; Clark County Safety Council</span></span></span></strong><br />\n<br />\n<strong><span style="font-size: 24pt\;"><span style="font-family: comic sans ms\;"><span style="color: rgb(192\, 0\, 0)\;">Pre-Pay &amp\; $AVE</span></span></span></strong><br />\n<br />\n<strong><u><span style="font-size: 20pt\;"><span style="font-family: comic sans ms\;"><span style="color: rgb(0\, 176\, 80)\;">July 2019-June 2020</span></span></span></u></strong></font></font><br />\n<span style="color: rgb(0\, 0\, 255)\;"><font face="Arial Rounded MT Bold"><strong><u><span style="font-size: 14pt\;"><span style="font-family: comic sans ms\;">PREPAY </span></span><span style="font-size: 18pt\;"><span style="font-family: comic sans ms\;">$200 by June 30th</span></span></u></strong><br />\n<strong><u><span style="font-size: 14pt\;"><span style="font-family: comic sans ms\;">and attend</span></span></u></strong><br />\n<strong><span style="font-size: 14pt\;"><span style="font-family: comic sans ms\;"><u>12 meetings for the price of 10</u>!</span></span></strong></font></span><font color="maroon" face="Arial Rounded MT Bold"><font color="#004080"><strong><span style="font-size: 14pt\;"><span style="font-family: comic sans ms\;"><span style="color: rgb(192\, 0\, 0)\;"> </span></span></span></strong><br />\n<strong><span style="font-family: comic sans ms\;"><span style="font-size: medium\;">INCLUDES 50% DISCOUNT FOR ONE SEMINAR</span></span></strong></font></font><br />\n<br />\n<font color="#004080">-or- prepay online&nbsp\;for each individual meeting</font><br />\n<font color="#004080">-or- pay at the door at each meeting with cash/check/credit (Visa/MasterCard/Discover/AMEX) </font></p>\n\n<p style="text-align: center\;"><strong><font color="#004080">Meetings will run a flat rate of $20 prepaid or pay at the door.</font></strong></p>\n
LOCATION:Meetings are held the second Tuesday of every month at the Courtyard by Marriott - Springfield
UID:e.1444.5030
SEQUENCE:3
DTSTAMP:20260422T111741Z
URL:https://business.greaterspringfield.com/events/details/safety-council-prepay-july-2019-june-2020-5030
END:VEVENT

END:VCALENDAR
