BEGIN:VCALENDAR
VERSION:2.0
PRODID:-//ChamberMaster//Event Calendar 2.0//EN
METHOD:PUBLISH
X-PUBLISHED-TTL:P3D
REFRESH-INTERVAL:P3D
CALSCALE:GREGORIAN
BEGIN:VEVENT
DTSTART:20190918T210000Z
DTEND:20190918T230000Z
X-MICROSOFT-CDO-ALLDAYEVENT:FALSE
SUMMARY:Small Nation at Mother Stewart's Brewing Co.: 09/18/2019
DESCRIPTION:Small Nation - Mother Stewart's Brewing Company\n\n\n\n"Making Small\, Successful - How to Revitalize\, Grow and Become a Best-In-State Destination Small Business."\n\n\n\nSponsored by The Chamber of Greater Springfield\, Gateway Business Group\, SpringForward and Mother Stewart's Brewing Company.\n\n\n\nFREE Presentation by Jason Duff of Small Town
X-ALT-DESC;FMTTYPE=text/html:Small Nation - Mother Stewart&#39\;s Brewing Company<br />\n<br />\n&quot\;Making Small\, Successful - How to Revitalize\, Grow and Become a Best-In-State Destination Small Business.&quot\;<br />\n<br />\nSponsored by The Chamber of Greater Springfield\, Gateway Business Group\, SpringForward and Mother Stewart&#39\;s Brewing Company.<br />\n<br />\nFREE Presentation by Jason Duff of Small Town
LOCATION:Mother Stewart's Brewing Company
UID:e.1444.5042
SEQUENCE:3
DTSTAMP:20260422T071326Z
URL:https://business.greaterspringfield.com/events/details/small-nation-at-mother-stewart-s-brewing-co-09-18-2019-5042
END:VEVENT

END:VCALENDAR
