BEGIN:VCALENDAR
VERSION:2.0
PRODID:-//ChamberMaster//Event Calendar 2.0//EN
METHOD:PUBLISH
X-PUBLISHED-TTL:P3D
REFRESH-INTERVAL:P3D
CALSCALE:GREGORIAN
BEGIN:VEVENT
DTSTART:20190314T153000Z
DTEND:20190314T170000Z
X-MICROSOFT-CDO-ALLDAYEVENT:FALSE
SUMMARY:Young Professionals: Lunch & Learn - 03/14/2019
DESCRIPTION:Young Professionals Lunch & Learn\n\nMarch 14th - 11:30am\n\nContact Kelcie Webster for more details at kwebster@greaterspringfield.com
X-ALT-DESC;FMTTYPE=text/html:Young Professionals Lunch &amp\; Learn<br />\nMarch 14th - 11:30am<br />\nContact Kelcie Webster for more details at kwebster@greaterspringfield.com
LOCATION:
UID:e.1444.5020
SEQUENCE:3
DTSTAMP:20260422T171012Z
URL:https://business.greaterspringfield.com/events/details/young-professionals-lunch-learn-03-14-2019-5020
END:VEVENT

END:VCALENDAR
