BEGIN:VCALENDAR
VERSION:2.0
PRODID:-//ChamberMaster//Event Calendar 2.0//EN
METHOD:PUBLISH
X-PUBLISHED-TTL:P3D
REFRESH-INTERVAL:P3D
CALSCALE:GREGORIAN
BEGIN:VEVENT
DTSTART:20190919T160000Z
DTEND:20190919T170000Z
X-MICROSOFT-CDO-ALLDAYEVENT:FALSE
SUMMARY:Young Professionals: Lunch & Learn - 09/19/2019
DESCRIPTION:Young Professionals Lunch & Learn\n\nSeptember 19\, 2019 - 12 Noon\n\nContact Kelcie Webster for more details at kwebster@greaterspringfield.com
X-ALT-DESC;FMTTYPE=text/html:Young Professionals Lunch &amp\; Learn<br />\nSeptember 19\, 2019 - 12 Noon<br />\nContact Kelcie Webster for more details at kwebster@greaterspringfield.com
LOCATION:
UID:e.1444.5043
SEQUENCE:3
DTSTAMP:20260422T054500Z
URL:https://business.greaterspringfield.com/events/details/young-professionals-lunch-learn-09-19-2019-5043
END:VEVENT

END:VCALENDAR
