BEGIN:VCALENDAR
VERSION:2.0
PRODID:-//ChamberMaster//Event Calendar 2.0//EN
METHOD:PUBLISH
X-PUBLISHED-TTL:P3D
REFRESH-INTERVAL:P3D
CALSCALE:GREGORIAN
BEGIN:VEVENT
DTSTART:20190117T220000Z
DTEND:20190117T233000Z
X-MICROSOFT-CDO-ALLDAYEVENT:FALSE
SUMMARY:Young Professionals of Greater Springfield: 01/17/2019
DESCRIPTION:Young Professionals\n\nQuint Studer Reception\n\nMother Stewart's\n\n5PM - 6:30PM
X-ALT-DESC;FMTTYPE=text/html:Young Professionals<br />\nQuint Studer Reception<br />\nMother Stewart&#39\;s<br />\n5PM - 6:30PM
LOCATION:
UID:e.1444.5011
SEQUENCE:3
DTSTAMP:20260422T200603Z
URL:https://business.greaterspringfield.com/events/details/young-professionals-of-greater-springfield-01-17-2019-5011
END:VEVENT

END:VCALENDAR
