BEGIN:VCALENDAR
VERSION:2.0
PRODID:-//ChamberMaster//Event Calendar 2.0//EN
METHOD:PUBLISH
X-PUBLISHED-TTL:P3D
REFRESH-INTERVAL:P3D
CALSCALE:GREGORIAN
BEGIN:VEVENT
DTSTART:20190314T160000Z
DTEND:20190314T173000Z
X-MICROSOFT-CDO-ALLDAYEVENT:FALSE
SUMMARY:Young Professionals of Greater Springfield: 03/14/2019
DESCRIPTION:Young Professionals\n\nLunch + Learn\n\nLocation TBD\n\n12:00pm
X-ALT-DESC;FMTTYPE=text/html:Young Professionals<br />\nLunch + Learn<br />\nLocation TBD<br />\n12:00pm
LOCATION:
UID:e.1444.5013
SEQUENCE:3
DTSTAMP:20260422T155257Z
URL:https://business.greaterspringfield.com/events/details/young-professionals-of-greater-springfield-03-14-2019-5013
END:VEVENT

END:VCALENDAR
